BEGIN:VCALENDAR
VERSION:2.0
PRODID:-//wp-events-plugin.com//7.2.3.1//EN
TZID:America/Barbados
X-WR-TIMEZONE:America/Barbados
BEGIN:VEVENT
UID:33@thebarbadosphotographicsociety.com
DTSTART;TZID=America/Barbados:20260131T150000
DTEND;TZID=America/Barbados:20260131T180000
DTSTAMP:20260213T202949Z
URL:https://thebarbadosphotographicsociety.com/events/bps-annual-general-m
 eeting-january-31st-2026/
SUMMARY:BPS Annual General Meeting - January 31st\, 2026
DESCRIPTION:Join us for our Annual General Meeting on January 31st 2026.
ATTACH;FMTTYPE=image/jpeg:https://thebarbadosphotographicsociety.com/wp-co
 ntent/uploads/2026/02/AGM-small.png
CATEGORIES:Annual General Meeting
LOCATION:Queen's Park\, Constitution Road\, Bridgetown\, St. Michael\, Barb
 ados
X-APPLE-STRUCTURED-LOCATION;VALUE=URI;X-ADDRESS=Constitution Road\, Bridget
 own\, St. Michael\, Barbados;X-APPLE-RADIUS=100;X-TITLE=Queen's Park:geo:0
 ,0
END:VEVENT
BEGIN:VTIMEZONE
TZID:America/Barbados
X-LIC-LOCATION:America/Barbados
BEGIN:STANDARD
DTSTART:20250131T150000
TZOFFSETFROM:-0400
TZOFFSETTO:-0400
TZNAME:AST
END:STANDARD
END:VTIMEZONE
END:VCALENDAR