BEGIN:VCALENDAR
VERSION:2.0
PRODID:-//wp-events-plugin.com//7.2.3.1//EN
TZID:America/Barbados
X-WR-TIMEZONE:America/Barbados
BEGIN:VEVENT
UID:26@thebarbadosphotographicsociety.com
DTSTART;TZID=America/Barbados:20250814T193000
DTEND;TZID=America/Barbados:20250814T213000
DTSTAMP:20250812T200828Z
URL:https://thebarbadosphotographicsociety.com/events/online-workshop-adob
 e-lightroom-classic/
SUMMARY:Online Workshop: Adobe Lightroom Classic
DESCRIPTION:Adobe Lightroom Classic\nAre you an Adobe Lightroom user? Do yo
 u have access to Adobe Lightroom Classic? Then this workshop is for you! J
 oin photographer\, Hugh Walker for an enlightening update.\n
ATTACH;FMTTYPE=image/jpeg:https://thebarbadosphotographicsociety.com/wp-co
 ntent/uploads/2025/08/Adobe-Lightroom-Classic-Resized.jpg
CATEGORIES:Workshop
END:VEVENT
BEGIN:VTIMEZONE
TZID:America/Barbados
X-LIC-LOCATION:America/Barbados
BEGIN:STANDARD
DTSTART:20240814T193000
TZOFFSETFROM:-0400
TZOFFSETTO:-0400
TZNAME:AST
END:STANDARD
END:VTIMEZONE
END:VCALENDAR