BEGIN:VCALENDAR
VERSION:2.0
PRODID:-//wp-events-plugin.com//7.2.3.1//EN
TZID:America/Barbados
X-WR-TIMEZONE:America/Barbados
BEGIN:VEVENT
UID:20@thebarbadosphotographicsociety.com
DTSTART;TZID=America/Barbados:20250518T150000
DTEND;TZID=America/Barbados:20250518T180000
DTSTAMP:20250512T020423Z
URL:https://thebarbadosphotographicsociety.com/events/workshop-fashion-pho
 tography/
SUMMARY:Workshop: Fashion Photography
DESCRIPTION:Fashion Photography\nThis workshop is presented by Charles McCl
 ean\, an experienced photographer who specializes in wedding photography\,
  having trained at the prestigious Wedding &amp\; Portrait Photographers I
 nternational in Las Vegas.\n\n
ATTACH;FMTTYPE=image/jpeg:https://thebarbadosphotographicsociety.com/wp-co
 ntent/uploads/2025/01/Fashion-Photography-2025-full-length-1-scaled.jpg
CATEGORIES:Workshop
LOCATION:Queen's Park\, Constitution Road\, Bridgetown\, St. Michael\, Barb
 ados
X-APPLE-STRUCTURED-LOCATION;VALUE=URI;X-ADDRESS=Constitution Road\, Bridget
 own\, St. Michael\, Barbados;X-APPLE-RADIUS=100;X-TITLE=Queen's Park:geo:0
 ,0
END:VEVENT
BEGIN:VTIMEZONE
TZID:America/Barbados
X-LIC-LOCATION:America/Barbados
BEGIN:STANDARD
DTSTART:20240518T150000
TZOFFSETFROM:-0400
TZOFFSETTO:-0400
TZNAME:AST
END:STANDARD
END:VTIMEZONE
END:VCALENDAR